BEGIN:VCALENDAR
VERSION:2.0
PRODID:-//eventon.com NONSGML v1.0//EN
CALSCALE:GREGORIAN
METHOD:PUBLISH
BEGIN:VEVENT
UID:69e8d307756dd
DTSTAMP:20260422T135415Z
DTSTART:20220401T181500Z
DTEND:20220401T211500Z
LOCATION:De Oosterpoort Trompsingel 27
SUMMARY:Prins Claus Concert 2022
DESCRIPTION:Het Prins Claus Conservatorium\,  onderdeel van de Hanzehogesch
 ool Groningen\,  presenteert het Prins Claus Concert 2022 met als thema Hun
 dred+ Years of Jazz. Het Hanze Symphonic Jazz Orchestra\,  bestaande uit st
 udenten klassieke muziek én jazz\,  wordt voor deze gelegenheid gedirigeer
 d door de van oorsprong Japanse componist en dirigent Miho Hazama. In[..]\n
 https://johanboekema.nl/events/prins-claus-concert-2022/
URL:https://johanboekema.nl/events/prins-claus-concert-2022/
END:VEVENT
END:VCALENDAR