BEGIN:VCALENDAR
VERSION:2.0
PRODID:-//eventon.com NONSGML v1.0//EN
CALSCALE:GREGORIAN
METHOD:PUBLISH
BEGIN:VEVENT
UID:69e8d33bc283b
DTSTAMP:20260422T135507Z
DTSTART:20220403T130000Z
DTEND:20220403T210000Z
LOCATION:De Harmonie Leeuwarden Ruiterskwartier 4
SUMMARY:Prins Claus Concert 2022
DESCRIPTION:Het Prins Claus Conservatorium\,  onderdeel van de Hanzehogesch
 ool Groningen\,  presenteert het Prins Claus Concert 2022 met als thema Hun
 dred+ Years of Jazz. Het Hanze Symphonic Jazz Orchestra\,  bestaande uit st
 udenten klassieke muziek én jazz\,  wordt voor deze gelegenheid gedirigeer
 d door de van oorsprong Japanse componist en dirigent Miho Hazama. In[..]\n
 https://johanboekema.nl/events/prins-claus-concert-2022-2/
URL:https://johanboekema.nl/events/prins-claus-concert-2022-2/
END:VEVENT
END:VCALENDAR