BEGIN:VCALENDAR
VERSION:2.0
PRODID:-//eventon.com NONSGML v1.0//EN
CALSCALE:GREGORIAN
METHOD:PUBLISH
BEGIN:VEVENT
UID:69e8d381b6eb3
DTSTAMP:20260422T135617Z
DTSTART:20220617T180000Z
DTEND:20220617T210000Z
LOCATION:
SUMMARY:Bedrijfsfeest
DESCRIPTION:Bedrijfsfeest\nhttps://johanboekema.nl/events/bedrijfsfeest/
URL:https://johanboekema.nl/events/bedrijfsfeest/
END:VEVENT
END:VCALENDAR