BEGIN:VCALENDAR
VERSION:2.0
PRODID:-//eventon.com NONSGML v1.0//EN
CALSCALE:GREGORIAN
METHOD:PUBLISH
BEGIN:VEVENT
UID:69e8d3818809a
DTSTAMP:20260422T135617Z
DTSTART:20220420T180000Z
DTEND:20220420T210000Z
LOCATION:
SUMMARY:Bedrijfsfeest
DESCRIPTION:Bedrijfsfeest\nhttps://johanboekema.nl/events/bedrijfsfeest-2/
URL:https://johanboekema.nl/events/bedrijfsfeest-2/
END:VEVENT
END:VCALENDAR