BEGIN:VCALENDAR
VERSION:2.0
PRODID:-//eventon.com NONSGML v1.0//EN
CALSCALE:GREGORIAN
METHOD:PUBLISH
BEGIN:VEVENT
UID:69e8d3682876c
DTSTAMP:20260422T135552Z
DTSTART:20211216T190000Z
DTEND:20211216T220000Z
LOCATION:Prins Claus Conservatorium Meeuwerderweg 1
SUMMARY:PCC Christmas Concert
DESCRIPTION:PCC Christmas Concert\nhttps://johanboekema.nl/events/christmas
 -concert/
URL:https://johanboekema.nl/events/christmas-concert/
END:VEVENT
END:VCALENDAR