BEGIN:VCALENDAR
VERSION:2.0
PRODID:-//eventon.com NONSGML v1.0//EN
CALSCALE:GREGORIAN
METHOD:PUBLISH
BEGIN:VEVENT
UID:69e8d3dd59e5a
DTSTAMP:20260422T135749Z
DTSTART:20200917T181500Z
DTEND:20200917T211500Z
LOCATION:Kielzog Theater Gorecht Oost 157
SUMMARY:Nazomeren: Big Band Want 2 Swing
DESCRIPTION:Kom nazomeren in onze nieuwe Kielzog Rouge zaal.\nhttps://johan
 boekema.nl/events/nazomeren-big-band-want-2-swing/
URL:https://johanboekema.nl/events/nazomeren-big-band-want-2-swing/
END:VEVENT
END:VCALENDAR