BEGIN:VCALENDAR
VERSION:2.0
PRODID:-//eventon.com NONSGML v1.0//EN
CALSCALE:GREGORIAN
METHOD:PUBLISH
BEGIN:VEVENT
UID:69e8d380b4a4b
DTSTAMP:20260422T135616Z
DTSTART:20201009T181500Z
DTEND:20201009T211500Z
LOCATION:Podium Zuidhaege Zuidhaege 2
SUMMARY:CD Presentatie Funky Stones
DESCRIPTION:CD Presentatie Funky Stones\nhttps://johanboekema.nl/events/cd-
 presentatie-funky-stones/
URL:https://johanboekema.nl/events/cd-presentatie-funky-stones/
END:VEVENT
END:VCALENDAR