BEGIN:VCALENDAR
VERSION:2.0
PRODID:-//eventon.com NONSGML v1.0//EN
CALSCALE:GREGORIAN
METHOD:PUBLISH
BEGIN:VEVENT
UID:69e8d41e817b7
DTSTAMP:20260422T135854Z
DTSTART:20201211T191500Z
DTEND:20201211T221500Z
LOCATION:Podium Zuidhaege Zuidhaege 2
SUMMARY:Discoshow
DESCRIPTION:Op vrijdagavond 11 december 2020 organiseert Big Band Want2Swin
 g een “tribuneconcert” samen met Podium Zuidhaege. I.v.m. de Corona maa
 tregelen zijn we genoodzaakt om met de band op de tribune plaats te nemen o
 mdat er maximaal 15 mensen op het podium mogen. (En 30 op de tribune). Want
 2Swing bestaat uit 22[..]\nhttps://johanboekema.nl/events/discoshow/
URL:https://johanboekema.nl/events/discoshow/
END:VEVENT
END:VCALENDAR