BEGIN:VCALENDAR
VERSION:2.0
PRODID:-//eventon.com NONSGML v1.0//EN
CALSCALE:GREGORIAN
METHOD:PUBLISH
BEGIN:VEVENT
UID:69e736894ce91
DTSTAMP:20260421T083417Z
DTSTART:20210709T190000Z
DTEND:20210709T210000Z
LOCATION:Ecomotion Hoofdweg 137
SUMMARY:We zijn er nog!!!
DESCRIPTION:Geen FUPS of andere ingewikkelde muziek. Pure dansmuziek\,  ges
 peeld door de beste Big Band voor pop\,  soul en funk van de Benelux. &#822
 0;Roof Garden\,  September\,  Brick House\,  Down To The Nightclub&#8221;. 
 &#8220;Chaka Kahn\,  Tower Of Power\,  Lisa Stansfield. &#8220;We Zijn Er N
 og&#8221; en willen feesten zoals het vroeger kon. Geweldige[..]\nhttps://j
 ohanboekema.nl/events/we-zijn-er-nog/
URL:https://johanboekema.nl/events/we-zijn-er-nog/
END:VEVENT
END:VCALENDAR