BEGIN:VCALENDAR
VERSION:2.0
PRODID:-//eventon.com NONSGML v1.0//EN
CALSCALE:GREGORIAN
METHOD:PUBLISH
BEGIN:VEVENT
UID:69e8d3216a718
DTSTAMP:20260422T135441Z
DTSTART:20211212T130000Z
DTEND:20211212T220000Z
LOCATION:Bij Vrijdag Sint Jansstraat 7\,  Groningen
SUMMARY:Macramé Funk
DESCRIPTION:Met het Macramé Funk project gaat S.J.O. terug naar een bijzon
 der spannende tijd wat betreft de jazzmuziek. De Big Band muziek werd elekt
 rischer.De Fender Rhodes deed zijn intree. Er werd een hele stijl opgetuigd
  rond deze nieuwe sound. Belangrijke voortrekkers waren Herbie Hancock\,  M
 iles Davis\,  Brecker Brothers of Weather Report.[..]\nhttps://johanboekema
 .nl/events/macrame-funk/
URL:https://johanboekema.nl/events/macrame-funk/
END:VEVENT
END:VCALENDAR