BEGIN:VCALENDAR
VERSION:2.0
PRODID:-//eventon.com NONSGML v1.0//EN
CALSCALE:GREGORIAN
METHOD:PUBLISH
BEGIN:VEVENT
UID:69e8d3ba0da6f
DTSTAMP:20260422T135714Z
DTSTART:20220618T190000Z
DTEND:20220618T215000Z
LOCATION:Leewuarden
SUMMARY:Grutsk
DESCRIPTION:Grutsk\nhttps://johanboekema.nl/events/grutsk/
URL:https://johanboekema.nl/events/grutsk/
END:VEVENT
END:VCALENDAR