BEGIN:VCALENDAR
VERSION:2.0
PRODID:-//eventon.com NONSGML v1.0//EN
CALSCALE:GREGORIAN
METHOD:PUBLISH
BEGIN:VEVENT
UID:69e8d2ffdfa36
DTSTAMP:20260422T135407Z
DTSTART:20220621T190000Z
DTEND:20220621T215000Z
LOCATION:De Smederij Tuinstraat 2
SUMMARY:Jazz at De Smederij
DESCRIPTION:Jazz at De Smederij\nhttps://johanboekema.nl/events/jazz-at-de-
 smederij/
URL:https://johanboekema.nl/events/jazz-at-de-smederij/
END:VEVENT
END:VCALENDAR