BEGIN:VCALENDAR
VERSION:2.0
PRODID:-//eventon.com NONSGML v1.0//EN
CALSCALE:GREGORIAN
METHOD:PUBLISH
BEGIN:VEVENT
UID:69e8d37f8073c
DTSTAMP:20260422T135615Z
DTSTART:20220904T120000Z
DTEND:20220904T215000Z
LOCATION:Roden
SUMMARY:WaT ’n KuNsT 2022
DESCRIPTION:WaT ’n KuNsT 2022\nhttps://johanboekema.nl/events/wat-n-kunst
 -2022/
URL:https://johanboekema.nl/events/wat-n-kunst-2022/
END:VEVENT
END:VCALENDAR