BEGIN:VCALENDAR
VERSION:2.0
PRODID:-//eventon.com NONSGML v1.0//EN
CALSCALE:GREGORIAN
METHOD:PUBLISH
BEGIN:VEVENT
UID:69e8d36baac02
DTSTAMP:20260422T135555Z
DTSTART:20220901T120000Z
DTEND:20220901T215000Z
LOCATION:Harlingen
SUMMARY:Jazzfestival Harlingen
DESCRIPTION:Visserijdagen Harlingen\nhttps://johanboekema.nl/events/the-jaz
 zmob-2/
URL:https://johanboekema.nl/events/the-jazzmob-2/
END:VEVENT
END:VCALENDAR