BEGIN:VCALENDAR
VERSION:2.0
PRODID:-//eventon.com NONSGML v1.0//EN
CALSCALE:GREGORIAN
METHOD:PUBLISH
BEGIN:VEVENT
UID:69e8d3e1674ce
DTSTAMP:20260422T135753Z
DTSTART:20220529T120000Z
DTEND:20220529T215000Z
LOCATION:Noordelijk Scheepvaartmuseum Brugstraat 24
SUMMARY:Van oude vaart tot nieuwe noten
DESCRIPTION:Conservatoriumstudenten nemen oude zeemansliederen en geven hun
  eigen interpretatie hieraan in het Noordelijk Scheepvaartmuseum.\nhttps://
 johanboekema.nl/events/van-oude-vaart-tot-nieuwe-noten/
URL:https://johanboekema.nl/events/van-oude-vaart-tot-nieuwe-noten/
END:VEVENT
END:VCALENDAR