BEGIN:VCALENDAR
VERSION:2.0
PRODID:-//eventon.com NONSGML v1.0//EN
CALSCALE:GREGORIAN
METHOD:PUBLISH
BEGIN:VEVENT
UID:69e8d31fe31ad
DTSTAMP:20260422T135439Z
DTSTART:20220629T170000Z
DTEND:20220629T215000Z
LOCATION:Prins Claus Conservatorium Meeuwerderweg 1
SUMMARY:Examen Esther Fernandez-Mata
DESCRIPTION:Examen Esther Fernandez-Mata\nhttps://johanboekema.nl/events/ex
 amen-esther-fernandez-mata/
URL:https://johanboekema.nl/events/examen-esther-fernandez-mata/
END:VEVENT
END:VCALENDAR