BEGIN:VCALENDAR
VERSION:2.0
PRODID:-//eventon.com NONSGML v1.0//EN
CALSCALE:GREGORIAN
METHOD:PUBLISH
BEGIN:VEVENT
UID:69e8d39a70787
DTSTAMP:20260422T135642Z
DTSTART:20220607T170000Z
DTEND:20220607T215000Z
LOCATION:
SUMMARY:Bigband Enzo
DESCRIPTION:Bigband Enzo\nhttps://johanboekema.nl/events/bigband-enzo/
URL:https://johanboekema.nl/events/bigband-enzo/
END:VEVENT
END:VCALENDAR