BEGIN:VCALENDAR
VERSION:2.0
PRODID:-//eventon.com NONSGML v1.0//EN
CALSCALE:GREGORIAN
METHOD:PUBLISH
BEGIN:VEVENT
UID:69e8d32d89f4e
DTSTAMP:20260422T135453Z
DTSTART:20220618T180000Z
DTEND:20220618T215000Z
LOCATION:Swingin Groningen
SUMMARY:Swingin Groningen
DESCRIPTION:Prins Claus Big Band\nhttps://johanboekema.nl/events/swingin-gr
 oningen/
URL:https://johanboekema.nl/events/swingin-groningen/
END:VEVENT
END:VCALENDAR