BEGIN:VCALENDAR
VERSION:2.0
PRODID:-//eventon.com NONSGML v1.0//EN
CALSCALE:GREGORIAN
METHOD:PUBLISH
BEGIN:VEVENT
UID:69e8d3fa42d1e
DTSTAMP:20260422T135818Z
DTSTART:20220714T190000Z
DTEND:20220714T215000Z
LOCATION:
SUMMARY:Want2Swing On Stage
DESCRIPTION:De seizoensafsluiter van Want2Swing: een feestelijke dansavond!
 \nhttps://johanboekema.nl/events/met-want2swing-de-zomer-in/
URL:https://johanboekema.nl/events/met-want2swing-de-zomer-in/
END:VEVENT
END:VCALENDAR