BEGIN:VCALENDAR
VERSION:2.0
PRODID:-//eventon.com NONSGML v1.0//EN
CALSCALE:GREGORIAN
METHOD:PUBLISH
BEGIN:VEVENT
UID:69e8d320280b3
DTSTAMP:20260422T135440Z
DTSTART:20220712T180000Z
DTEND:20220712T215000Z
LOCATION:
SUMMARY:Stageband Jazz Orchestra: Concert
DESCRIPTION:Stageband Jazz Orchestra: Concert\nhttps://johanboekema.nl/even
 ts/stageband-jazz-orchestra-concert-2/
URL:https://johanboekema.nl/events/stageband-jazz-orchestra-concert-2/
END:VEVENT
END:VCALENDAR