BEGIN:VCALENDAR
VERSION:2.0
PRODID:-//eventon.com NONSGML v1.0//EN
CALSCALE:GREGORIAN
METHOD:PUBLISH
BEGIN:VEVENT
UID:69e8d397327b5
DTSTAMP:20260422T135639Z
DTSTART:20220625T164500Z
DTEND:20220625T215000Z
LOCATION:Mark Tennantplantsoen
SUMMARY:DjazzVibes
DESCRIPTION:Een weekend vol verrassende souly sounds\,  swingende jazz vibe
 s and some loud hiphop beats! Voor meer informatie check de website DjazzVi
 bes.\nhttps://johanboekema.nl/events/djazzvibes/
URL:https://johanboekema.nl/events/djazzvibes/
END:VEVENT
END:VCALENDAR