BEGIN:VCALENDAR
VERSION:2.0
PRODID:-//eventon.com NONSGML v1.0//EN
CALSCALE:GREGORIAN
METHOD:PUBLISH
BEGIN:VEVENT
UID:69e8d3242df84
DTSTAMP:20260422T135444Z
DTSTART:20220625T200000Z
DTEND:20220625T215000Z
LOCATION:Assen
SUMMARY:TT Festival 2022
DESCRIPTION:Het TT Festival heeft dit jaar 9 dagen programma\,  3 TT Nachte
 n\,  7 podia en meer dan 50 artiesten! En het programma liegt er niet om. N
 aast vele bekende artiesten\,  zoals Donnie\,  Mooi Wark\,  FeestDJRuud\,  
 STUK\,  Papa di Grazzi\,  Melrose\,  La Fuente\,  Outsiders en steengoede c
 overbands\,  is er natuurlijk weer[..]\nhttps://johanboekema.nl/events/tt-f
 estival-2022/
URL:https://johanboekema.nl/events/tt-festival-2022/
END:VEVENT
END:VCALENDAR