BEGIN:VCALENDAR
VERSION:2.0
PRODID:-//eventon.com NONSGML v1.0//EN
CALSCALE:GREGORIAN
METHOD:PUBLISH
BEGIN:VEVENT
UID:69e8d36a65a4a
DTSTAMP:20260422T135554Z
DTSTART:20220822T180000Z
DTEND:20220822T215900Z
LOCATION:
SUMMARY:Noorderzon
DESCRIPTION:Noorderzon\nhttps://johanboekema.nl/events/noorderzon/
URL:https://johanboekema.nl/events/noorderzon/
END:VEVENT
END:VCALENDAR