BEGIN:VCALENDAR
VERSION:2.0
PRODID:-//eventon.com NONSGML v1.0//EN
CALSCALE:GREGORIAN
METHOD:PUBLISH
BEGIN:VEVENT
UID:69e8d33bc7f52
DTSTAMP:20260422T135507Z
DTSTART:20220724T130000Z
DTEND:20220724T215000Z
LOCATION:El Pastel Sint Martiniplantsoen 4
SUMMARY:El Pastel
DESCRIPTION:El Pastel\nhttps://johanboekema.nl/events/el-pastel/
URL:https://johanboekema.nl/events/el-pastel/
END:VEVENT
END:VCALENDAR