BEGIN:VCALENDAR
VERSION:2.0
PRODID:-//eventon.com NONSGML v1.0//EN
CALSCALE:GREGORIAN
METHOD:PUBLISH
BEGIN:VEVENT
UID:69e8d33092302
DTSTAMP:20260422T135456Z
DTSTART:20220827T190000Z
DTEND:20220827T215000Z
LOCATION:
SUMMARY:The Jazzmob
DESCRIPTION:The Jazzmob\nhttps://johanboekema.nl/events/the-jazzmob/
URL:https://johanboekema.nl/events/the-jazzmob/
END:VEVENT
END:VCALENDAR