BEGIN:VCALENDAR
VERSION:2.0
PRODID:-//eventon.com NONSGML v1.0//EN
CALSCALE:GREGORIAN
METHOD:PUBLISH
BEGIN:VEVENT
UID:69e8d41e7e3ab
DTSTAMP:20260422T135854Z
DTSTART:20220924T180000Z
DTEND:20220924T215000Z
LOCATION:
SUMMARY:Stageband Jazz Orchestra: Concert
DESCRIPTION:Stageband Jazz Orchestra: Concert\nhttps://johanboekema.nl/even
 ts/stageband-jazz-orchestra-concert-3/
URL:https://johanboekema.nl/events/stageband-jazz-orchestra-concert-3/
END:VEVENT
END:VCALENDAR