BEGIN:VCALENDAR
VERSION:2.0
PRODID:-//eventon.com NONSGML v1.0//EN
CALSCALE:GREGORIAN
METHOD:PUBLISH
BEGIN:VEVENT
UID:69e8d33d53744
DTSTAMP:20260422T135509Z
DTSTART:20221008T180000Z
DTEND:20221008T215000Z
LOCATION:
SUMMARY:New Blues Festival
DESCRIPTION:Met Roelof Meijeringh &amp; Friends. Georganiseerd door Bluesst
 ichting Assen.\nhttps://johanboekema.nl/events/new-blues-festival/
URL:https://johanboekema.nl/events/new-blues-festival/
END:VEVENT
END:VCALENDAR