BEGIN:VCALENDAR
VERSION:2.0
PRODID:-//eventon.com NONSGML v1.0//EN
CALSCALE:GREGORIAN
METHOD:PUBLISH
BEGIN:VEVENT
UID:69e8d324946c8
DTSTAMP:20260422T135444Z
DTSTART:20221127T140000Z
DTEND:20221127T225000Z
LOCATION:
SUMMARY:Jazz-Dokkum
DESCRIPTION:The Jazzmob\nhttps://johanboekema.nl/events/the-jazzmob-3/
URL:https://johanboekema.nl/events/the-jazzmob-3/
END:VEVENT
END:VCALENDAR