BEGIN:VCALENDAR
VERSION:2.0
PRODID:-//eventon.com NONSGML v1.0//EN
CALSCALE:GREGORIAN
METHOD:PUBLISH
BEGIN:VEVENT
UID:69e8d322a085d
DTSTAMP:20260422T135442Z
DTSTART:20221221T180000Z
DTEND:20221221T225000Z
LOCATION:
SUMMARY:Mobster Christmas
DESCRIPTION:Groningen\nhttps://johanboekema.nl/events/mobster-christmas/
URL:https://johanboekema.nl/events/mobster-christmas/
END:VEVENT
END:VCALENDAR