BEGIN:VCALENDAR
VERSION:2.0
PRODID:-//eventon.com NONSGML v1.0//EN
CALSCALE:GREGORIAN
METHOD:PUBLISH
BEGIN:VEVENT
UID:69e8d31f110c6
DTSTAMP:20260422T135439Z
DTSTART:20221130T190000Z
DTEND:20221130T225900Z
LOCATION:Café De Zolder Papengang 3a
SUMMARY:StapleClouds @Zolder
DESCRIPTION:StapleClouds @Zolder\nhttps://johanboekema.nl/events/stapleclou
 ds-zolder/
URL:https://johanboekema.nl/events/stapleclouds-zolder/
END:VEVENT
END:VCALENDAR