BEGIN:VCALENDAR
VERSION:2.0
PRODID:-//eventon.com NONSGML v1.0//EN
CALSCALE:GREGORIAN
METHOD:PUBLISH
BEGIN:VEVENT
UID:69e8d33d7ed26
DTSTAMP:20260422T135509Z
DTSTART:20221126T180000Z
DTEND:20221125T235000Z
LOCATION:
SUMMARY:Dutch Spirit
DESCRIPTION:Dutch Spirit\nhttps://johanboekema.nl/events/dutch-spirit/
URL:https://johanboekema.nl/events/dutch-spirit/
END:VEVENT
END:VCALENDAR