BEGIN:VCALENDAR
VERSION:2.0
PRODID:-//eventon.com NONSGML v1.0//EN
CALSCALE:GREGORIAN
METHOD:PUBLISH
BEGIN:VEVENT
UID:69eb3b1de0359
DTSTAMP:20260424T094253Z
DTSTART:20221208T173000Z
DTEND:20221207T235200Z
LOCATION:
SUMMARY:Kerstmarkt Marum
DESCRIPTION:Kerstmarkt Marum\nhttps://johanboekema.nl/events/kerstmarkt-mar
 um/
URL:https://johanboekema.nl/events/kerstmarkt-marum/
END:VEVENT
END:VCALENDAR