BEGIN:VCALENDAR
VERSION:2.0
PRODID:-//eventon.com NONSGML v1.0//EN
CALSCALE:GREGORIAN
METHOD:PUBLISH
BEGIN:VEVENT
UID:69e8d3817b99c
DTSTAMP:20260422T135617Z
DTSTART:20230114T150000Z
DTEND:20230114T225000Z
LOCATION:Ons Centrum Kruisweg 30
SUMMARY:Nieuwjaarsreceptie en concert
DESCRIPTION:Nieuwjaarsreceptie en concert\nhttps://johanboekema.nl/events/n
 ieuwjaarsreceptie-en-concert/
URL:https://johanboekema.nl/events/nieuwjaarsreceptie-en-concert/
END:VEVENT
END:VCALENDAR