BEGIN:VCALENDAR
VERSION:2.0
PRODID:-//eventon.com NONSGML v1.0//EN
CALSCALE:GREGORIAN
METHOD:PUBLISH
BEGIN:VEVENT
UID:69e8d37e4d692
DTSTAMP:20260422T135614Z
DTSTART:20221209T160000Z
DTEND:20221208T235200Z
LOCATION:
SUMMARY:Kerstmarkt Grootegast
DESCRIPTION:Kerstmarkt Grootegast\nhttps://johanboekema.nl/events/kerstmark
 t-grootegast/
URL:https://johanboekema.nl/events/kerstmarkt-grootegast/
END:VEVENT
END:VCALENDAR