BEGIN:VCALENDAR
VERSION:2.0
PRODID:-//eventon.com NONSGML v1.0//EN
CALSCALE:GREGORIAN
METHOD:PUBLISH
BEGIN:VEVENT
UID:69e8d33ee522d
DTSTAMP:20260422T135510Z
DTSTART:20230311T190000Z
DTEND:20230311T225000Z
LOCATION:Podium Zuidhaege Zuidhaege 2
SUMMARY:Big Band Festival
DESCRIPTION:Het jaarlijkse Big Band Festival georganiseerd speciaal voor de
  Asser Big Band cultuur door Want2Swing.Naast de Asser Bigbands BiggleBaggl
 e Big Band\,  Blue Note Big Band en Want2Swing is als speciale act deze kee
 r de Groninger Big Band &#8220;Punk &#8217;n Jazz&#8221; uitgenodigd. De za
 al is open om 19.30 uur. Entree €[..]\nhttps://johanboekema.nl/events/big
 -band-festival/
URL:https://johanboekema.nl/events/big-band-festival/
END:VEVENT
END:VCALENDAR