BEGIN:VCALENDAR
VERSION:2.0
PRODID:-//eventon.com NONSGML v1.0//EN
CALSCALE:GREGORIAN
METHOD:PUBLISH
BEGIN:VEVENT
UID:69e8d32f01fa6
DTSTAMP:20260422T135455Z
DTSTART:20230408T180000Z
DTEND:20230408T180900Z
LOCATION:Paaspop
SUMMARY:Paaspop
DESCRIPTION:Paaspop\nhttps://johanboekema.nl/events/paaspop/
URL:https://johanboekema.nl/events/paaspop/
END:VEVENT
END:VCALENDAR