BEGIN:VCALENDAR
VERSION:2.0
PRODID:-//eventon.com NONSGML v1.0//EN
CALSCALE:GREGORIAN
METHOD:PUBLISH
BEGIN:VEVENT
UID:69e8d33df2e5d
DTSTAMP:20260422T135509Z
DTSTART:20230517
DTEND:20230518
LOCATION:Vlaardingen
SUMMARY:Chicago Funk - Vlaardingen
DESCRIPTION:Chicago Funk - Vlaardingen\nhttps://johanboekema.nl/events/chic
 ago-funk-deventer/
URL:https://johanboekema.nl/events/chicago-funk-deventer/
END:VEVENT
END:VCALENDAR