BEGIN:VCALENDAR
VERSION:2.0
PRODID:-//eventon.com NONSGML v1.0//EN
CALSCALE:GREGORIAN
METHOD:PUBLISH
BEGIN:VEVENT
UID:69e8d33bd95fb
DTSTAMP:20260422T135507Z
DTSTART:20230415T120000Z
DTEND:20230415T190900Z
LOCATION:Rijssen
SUMMARY:Chicago Funk - Rijssen
DESCRIPTION:Chicago Funk - Rijssen\nhttps://johanboekema.nl/events/chicago-
 funk-rijssen/
URL:https://johanboekema.nl/events/chicago-funk-rijssen/
END:VEVENT
END:VCALENDAR