BEGIN:VCALENDAR
VERSION:2.0
PRODID:-//eventon.com NONSGML v1.0//EN
CALSCALE:GREGORIAN
METHOD:PUBLISH
BEGIN:VEVENT
UID:69e88628f1457
DTSTAMP:20260422T082616Z
DTSTART:20230831T160000Z
DTEND:20230831T215000Z
LOCATION:Harlingen
SUMMARY:Visserijdagen Harlingen
DESCRIPTION:Visserijdagen Harlingen\nhttps://johanboekema.nl/events/visseri
 jdagen-harlingen/
URL:https://johanboekema.nl/events/visserijdagen-harlingen/
END:VEVENT
END:VCALENDAR