BEGIN:VCALENDAR
VERSION:2.0
PRODID:-//eventon.com NONSGML v1.0//EN
CALSCALE:GREGORIAN
METHOD:PUBLISH
BEGIN:VEVENT
UID:69e8c19ab770a
DTSTAMP:20260422T123954Z
DTSTART:20230401T190000Z
DTEND:20230401T215000Z
LOCATION:Groningen
SUMMARY:Besloten feest
DESCRIPTION:Besloten feest\nhttps://johanboekema.nl/events/besloten-feest/
URL:https://johanboekema.nl/events/besloten-feest/
END:VEVENT
END:VCALENDAR