BEGIN:VCALENDAR
VERSION:2.0
PRODID:-//eventon.com NONSGML v1.0//EN
CALSCALE:GREGORIAN
METHOD:PUBLISH
BEGIN:VEVENT
UID:69e8d30666e58
DTSTAMP:20260422T135414Z
DTSTART:20230520
DTEND:20230521
LOCATION:Oerrock
SUMMARY:Chicago Funk - Oerrock
DESCRIPTION:Chicago Funk - Oerrock\nhttps://johanboekema.nl/events/oerrock/
URL:https://johanboekema.nl/events/oerrock/
END:VEVENT
END:VCALENDAR