BEGIN:VCALENDAR
VERSION:2.0
PRODID:-//eventon.com NONSGML v1.0//EN
CALSCALE:GREGORIAN
METHOD:PUBLISH
BEGIN:VEVENT
UID:69e8d377ebe68
DTSTAMP:20260422T135607Z
DTSTART:20230603T180000Z
DTEND:20230603T215000Z
LOCATION:
SUMMARY:Chicago Funk
DESCRIPTION:Chicago Funk\nhttps://johanboekema.nl/events/chicago-funk-alphe
 n-a-d-rijn/
URL:https://johanboekema.nl/events/chicago-funk-alphen-a-d-rijn/
END:VEVENT
END:VCALENDAR