BEGIN:VCALENDAR
VERSION:2.0
PRODID:-//eventon.com NONSGML v1.0//EN
CALSCALE:GREGORIAN
METHOD:PUBLISH
BEGIN:VEVENT
UID:69e8d33ce3ed1
DTSTAMP:20260422T135508Z
DTSTART:20230824T130000Z
DTEND:20230824T190900Z
LOCATION:Bakkeveen
SUMMARY:Chicago Funk
DESCRIPTION:Chicago Funk\nhttps://johanboekema.nl/events/chicago-funk-dodo-
 festival/
URL:https://johanboekema.nl/events/chicago-funk-dodo-festival/
END:VEVENT
END:VCALENDAR