BEGIN:VCALENDAR
VERSION:2.0
PRODID:-//eventon.com NONSGML v1.0//EN
CALSCALE:GREGORIAN
METHOD:PUBLISH
BEGIN:VEVENT
UID:69e8d3316dac9
DTSTAMP:20260422T135457Z
DTSTART:20230824T130000Z
DTEND:20230824T190900Z
LOCATION:Bakkeveen
SUMMARY:Bouke & Elvis Matters Band
DESCRIPTION:Bouke & Elvis Matters Band\nhttps://johanboekema.nl/events/bouk
 e-elvis-matters-band-dodo-festival/
URL:https://johanboekema.nl/events/bouke-elvis-matters-band-dodo-festival/
END:VEVENT
END:VCALENDAR