BEGIN:VCALENDAR
VERSION:2.0
PRODID:-//eventon.com NONSGML v1.0//EN
CALSCALE:GREGORIAN
METHOD:PUBLISH
BEGIN:VEVENT
UID:69e8d399dbf0c
DTSTAMP:20260422T135641Z
DTSTART:20230728T180000Z
DTEND:20230728T215000Z
LOCATION:
SUMMARY:Chicago Funk
DESCRIPTION:Chicago Funk\nhttps://johanboekema.nl/events/chicago-funk-ballo
 nfeesten-joure/
URL:https://johanboekema.nl/events/chicago-funk-ballonfeesten-joure/
END:VEVENT
END:VCALENDAR