BEGIN:VCALENDAR
VERSION:2.0
PRODID:-//eventon.com NONSGML v1.0//EN
CALSCALE:GREGORIAN
METHOD:PUBLISH
BEGIN:VEVENT
UID:69e8d33054e0e
DTSTAMP:20260422T135456Z
DTSTART:20230804T180000Z
DTEND:20230804T215000Z
LOCATION:
SUMMARY:Chicago Funk
DESCRIPTION:Chicago Funk\nhttps://johanboekema.nl/events/chicago-funk-rogge
 festival-ameland/
URL:https://johanboekema.nl/events/chicago-funk-roggefestival-ameland/
END:VEVENT
END:VCALENDAR