BEGIN:VCALENDAR
VERSION:2.0
PRODID:-//eventon.com NONSGML v1.0//EN
CALSCALE:GREGORIAN
METHOD:PUBLISH
BEGIN:VEVENT
UID:69e8d3fa1cee7
DTSTAMP:20260422T135818Z
DTSTART:20230620T190000Z
DTEND:20230620T215000Z
LOCATION:De Smederij Tuinstraat 2
SUMMARY:Prins Claus Big Band
DESCRIPTION:Prins Claus Big Band\nhttps://johanboekema.nl/events/prins-clau
 s-big-band-smederij/
URL:https://johanboekema.nl/events/prins-claus-big-band-smederij/
END:VEVENT
END:VCALENDAR