BEGIN:VCALENDAR
VERSION:2.0
PRODID:-//eventon.com NONSGML v1.0//EN
CALSCALE:GREGORIAN
METHOD:PUBLISH
BEGIN:VEVENT
UID:69e8d322e83a7
DTSTAMP:20260422T135442Z
DTSTART:20230527T180000Z
DTEND:20230527T215000Z
LOCATION:
SUMMARY:Chicago Funk
DESCRIPTION:Chicago Funk\nhttps://johanboekema.nl/events/chicago-funk-genne
 p/
URL:https://johanboekema.nl/events/chicago-funk-gennep/
END:VEVENT
END:VCALENDAR