BEGIN:VCALENDAR
VERSION:2.0
PRODID:-//eventon.com NONSGML v1.0//EN
CALSCALE:GREGORIAN
METHOD:PUBLISH
BEGIN:VEVENT
UID:69e8d37e4cb4a
DTSTAMP:20260422T135614Z
DTSTART:20230614T183000Z
DTEND:20230614T215000Z
LOCATION:
SUMMARY:Modern Jazz Ensemble
DESCRIPTION:Modern Jazz Ensemble\nhttps://johanboekema.nl/events/modern-jaz
 z-ensemble/
URL:https://johanboekema.nl/events/modern-jazz-ensemble/
END:VEVENT
END:VCALENDAR