BEGIN:VCALENDAR
VERSION:2.0
PRODID:-//eventon.com NONSGML v1.0//EN
CALSCALE:GREGORIAN
METHOD:PUBLISH
BEGIN:VEVENT
UID:69e8d305ecfc4
DTSTAMP:20260422T135413Z
DTSTART:20230617T130000Z
DTEND:20230617T215000Z
LOCATION:
SUMMARY:Showband Marum - Reünie
DESCRIPTION:In Ons Centrum\nhttps://johanboekema.nl/events/showband-marum-r
 eunie/
URL:https://johanboekema.nl/events/showband-marum-reunie/
END:VEVENT
END:VCALENDAR